BEGIN:VCALENDAR
VERSION:2.0
PRODID:icalendar-ruby
CALSCALE:GREGORIAN
X-WR-TIMEZONE:Europe/Helsinki
BEGIN:VTIMEZONE
TZID:Europe/Helsinki
BEGIN:DAYLIGHT
DTSTART:20260329T040000
TZOFFSETFROM:+0200
TZOFFSETTO:+0300
RRULE:FREQ=YEARLY;BYDAY=-1SU;BYMONTH=3
TZNAME:EEST
END:DAYLIGHT
BEGIN:STANDARD
DTSTART:20261025T030000
TZOFFSETFROM:+0300
TZOFFSETTO:+0200
RRULE:FREQ=YEARLY;BYDAY=-1SU;BYMONTH=10
TZNAME:EET
END:STANDARD
END:VTIMEZONE
BEGIN:VEVENT
DTSTAMP:20260425T192107
UID:orca.myclub.fi-9860457
DTSTART;TZID=Europe/Helsinki:20260103T110000
DTEND;TZID=Europe/Helsinki:20260103T110000
DESCRIPTION:Sammakot (vesiralli 1. tasoa vastaava) on syvän altaan ryhmien
  ensimmäinen taitotaso\, jossa tutustutaan uimataidon perusteisiin\, laji
 tekniikoihin\, vesipalloon\, uimahyppyihin ja taitouintiin. Kaikkia lajeja
  lähestytään mukavalla tavalla ja mahdollisena tulevana harrastuksena. 
 Osallistumisvaatimuksena on riittävä noin 25m uimataito syvässä altaas
 sa. Perus liu'ut ja kellunnat on myös hyvä hallita. Opetusaltaan uimakou
 lut sopivat lapsille\, joilla on vielä harjoiteltavaa mainituissa taidois
 sa.\nVuosaaren sammakot harjoittelevat oman ohjaajan kanssa 7 lapsen pienr
 yhmässä. Käytämme reunarataa (syvä allas). Ryhmällä on yksi ohjaaja
 . Ohjaaja vastaa uimareista vain opetusaikana!\n\nKAUSIMAKSUT https://orca
 .fi/kausimaksut/\nOSAAMISTAVOITTEET\nhttps://d2t6wyhz55tig8.cloudfront.net
 /assets/files/14805/sammakko.pdf\nOHJEITA UUDELLE UIMARILLE\nhttps://orca.
 fi/harrastetoiminta/ohjeita-uudelle-uimarille/\nTutustu Orcan ryhmiin ja u
 imarin polkuun täältä: \nhttp://orca.fi/uimarinpolku/\n\nhttps://orca.m
 yclub.fi/flow/events/9860457
LOCATION:Vuosaaren uimahalli\, Vuosaarentie 5\, 00980 Helsinki
SEQUENCE:0
SUMMARY:Vesirallit Vuosaari kevät 2026: Sammakot 6-7v. (vesiralli 1.) LA 1
 1:00
URL;VALUE=URI:https://orca.myclub.fi/flow/events/9860457
END:VEVENT
END:VCALENDAR
